BEGIN:VCALENDAR
VERSION:2.0
PRODID:-//Ann Ranlett, MSA - ECPv6.15.18//NONSGML v1.0//EN
CALSCALE:GREGORIAN
METHOD:PUBLISH
X-WR-CALNAME:Ann Ranlett, MSA
X-ORIGINAL-URL:https://annran.com/website
X-WR-CALDESC:Events for Ann Ranlett, MSA
REFRESH-INTERVAL;VALUE=DURATION:PT1H
X-Robots-Tag:noindex
X-PUBLISHED-TTL:PT1H
BEGIN:VTIMEZONE
TZID:America/Los_Angeles
BEGIN:DAYLIGHT
TZOFFSETFROM:-0800
TZOFFSETTO:-0700
TZNAME:PDT
DTSTART:20250309T100000
END:DAYLIGHT
BEGIN:STANDARD
TZOFFSETFROM:-0700
TZOFFSETTO:-0800
TZNAME:PST
DTSTART:20251102T090000
END:STANDARD
BEGIN:DAYLIGHT
TZOFFSETFROM:-0800
TZOFFSETTO:-0700
TZNAME:PDT
DTSTART:20260308T100000
END:DAYLIGHT
BEGIN:STANDARD
TZOFFSETFROM:-0700
TZOFFSETTO:-0800
TZNAME:PST
DTSTART:20261101T090000
END:STANDARD
BEGIN:DAYLIGHT
TZOFFSETFROM:-0800
TZOFFSETTO:-0700
TZNAME:PDT
DTSTART:20270314T100000
END:DAYLIGHT
BEGIN:STANDARD
TZOFFSETFROM:-0700
TZOFFSETTO:-0800
TZNAME:PST
DTSTART:20271107T090000
END:STANDARD
END:VTIMEZONE
BEGIN:VEVENT
DTSTART;TZID=America/Los_Angeles:20260422T140000
DTEND;TZID=America/Los_Angeles:20260422T170000
DTSTAMP:20260423T044344
CREATED:20260306T203719Z
LAST-MODIFIED:20260415T200721Z
UID:7941-1776866400-1776877200@annran.com
SUMMARY:Scratchboard Drop-In – Newcastle\, CA
DESCRIPTION:Most Wednesdays\, from 2 – 5\nAt Newcastle Packing Shed Studios\, 457 Main Street\, Newcastle CA\nPlease check my drop-in schedule to confirm dates\, or feel free to text: 9163005774 \nDrop-In time is for students who have taken a scratchboard workshop from me\, or who are already familiar with scratchboard techniques. \nNot formal instruction\, it’s an opportunity to get together with other scratchers\, make some progress on a project\, and share. Of course\, I’m available for advice\, but it’s not a structured workshop\, and I’ll work on my own drawings which are helpful examples. \nSupplies are not included\, so bring your own\, but I’ll have basic supplies\, plenty of small sample boards\, and a few larger boards. If you have never tried scratchboard and are curious about it\, you’re welcome to stop in to visit and even give it a try on a sample board at no charge. \nThe block of time is from 2 – 5. Come for all 3 hours\, 1 hour\, or anything in between.\nCost is $15 per hour\, in half-hour increments \nScratchboards (Scratchbord) courtesy of Ampersand Art!
URL:https://annran.com/website/events/scratchboard-drop-in-newcastle-ca-2/
LOCATION:Newcastle Packing Shed Studios\, 457 Main Street\, Newcastle\, CA\, 95658\, United States
CATEGORIES:drop-in,scratchboard
END:VEVENT
BEGIN:VEVENT
DTSTART;TZID=America/Los_Angeles:20260408T140000
DTEND;TZID=America/Los_Angeles:20260408T170000
DTSTAMP:20260423T044344
CREATED:20260306T203546Z
LAST-MODIFIED:20260316T081800Z
UID:7939-1775656800-1775667600@annran.com
SUMMARY:Scratchboard Drop-In – Newcastle\, CA
DESCRIPTION:Most Wednesdays\, from 2 – 5\nAt Newcastle Packing Shed Studios\, 457 Main Street\, Newcastle CA\nPlease check my drop-in schedule to confirm dates\, or feel free to text: 9163005774 \nDrop-In time is for students who have taken a scratchboard workshop from me\, or who are already familiar with scratchboard techniques. \nNot formal instruction\, it’s an opportunity to get together with other scratchers\, make some progress on a project\, and share. Of course\, I’m available for advice\, but it’s not a structured workshop\, and I’ll work on my own drawings which are helpful examples. \nSupplies are not included\, so bring your own\, but I’ll have basic supplies\, plenty of small sample boards\, and a few larger boards. If you have never tried scratchboard and are curious about it\, you’re welcome to stop in to visit and even give it a try on a sample board. \nThe block of time is from 2 – 5. Come for all 3 hours\, 1 hour\, or anything in between.\nCost is $15 per hour\, in half-hour increments \nScratchboards (Scratchbord) courtesy of Ampersand Art!
URL:https://annran.com/website/events/scratchboard-drop-in-newcastle-ca/
LOCATION:Newcastle Packing Shed Studios\, 457 Main Street\, Newcastle\, CA\, 95658\, United States
CATEGORIES:drop-in,scratchboard
END:VEVENT
BEGIN:VEVENT
DTSTART;TZID=America/Los_Angeles:20260401T140000
DTEND;TZID=America/Los_Angeles:20260401T170000
DTSTAMP:20260423T044344
CREATED:20260306T203215Z
LAST-MODIFIED:20260316T081712Z
UID:7934-1775052000-1775062800@annran.com
SUMMARY:Scratchboard Drop-In\, Newcastle CA
DESCRIPTION:Most Wednesdays\, from 2 – 5\nAt Newcastle Packing Shed Studios\, 457 Main Street\, Newcastle CA\nPlease check my drop-in schedule to confirm dates\, or feel free to text: 9163005774 \nDrop-In time is for students who have taken a scratchboard workshop from me\, or who are already familiar with scratchboard techniques. \nNot formal instruction\, it’s an opportunity to get together with other scratchers\, make some progress on a project\, and share. Of course\, I’m available for advice\, but it’s not a structured workshop\, and I’ll work on my own drawings which are helpful examples. \nSupplies are not included\, so bring your own\, but I’ll have basic supplies\, plenty of small sample boards\, and a few larger boards. If you have never tried scratchboard and are curious about it\, you’re welcome to stop in to visit and even give it a try on a sample board. \nThe block of time is from 2 – 5. Come for all 3 hours\, 1 hour\, or anything in between.\nCost is $15 per hour\, in half-hour increments \nScratchboards (Scratchbord) courtesy of Ampersand Art!
URL:https://annran.com/website/events/scratchboard-drop-in2/
LOCATION:Newcastle Packing Shed Studios\, 457 Main Street\, Newcastle\, CA\, 95658\, United States
CATEGORIES:drop-in,scratchboard
END:VEVENT
BEGIN:VEVENT
DTSTART;TZID=America/Los_Angeles:20260318T140000
DTEND;TZID=America/Los_Angeles:20260318T170000
DTSTAMP:20260423T044344
CREATED:20260306T201820Z
LAST-MODIFIED:20260316T081635Z
UID:7921-1773842400-1773853200@annran.com
SUMMARY:Scratchboard Drop-In - Newcastle\, CA
DESCRIPTION:Most Wednesdays\, from 2 – 5\nAt Newcastle Packing Shed Studios\, 457 Main Street\, Newcastle CA\nPlease check my drop-in schedule to confirm dates\, or feel free to text: 9163005774 \nDrop-In time is for students who have taken a scratchboard workshop from me\, or who are already familiar with scratchboard techniques. \nNot formal instruction\, it’s an opportunity to get together with other scratchers\, make some progress on a project\, and share. Of course\, I’m available for advice\, but it’s not a structured workshop\, and I’ll work on my own drawings which are helpful examples. \nSupplies are not included\, so bring your own\, but I’ll have basic supplies\, plenty of small sample boards\, and a few larger boards. If you have never tried scratchboard and are curious about it\, you’re welcome to stop in to visit and even give it a try on a sample board. \nThe block of time is from 2 – 5. Come for all 3 hours\, 1 hour\, or anything in between.\nCost is $15 per hour\, in half-hour increments \nScratchboards (Scratchbord) courtesy of Ampersand Art!
URL:https://annran.com/website/events/scratchboard-drop-in/
LOCATION:Newcastle Packing Shed Studios\, 457 Main Street\, Newcastle\, CA\, 95658\, United States
CATEGORIES:drop-in,scratchboard
END:VEVENT
END:VCALENDAR